BEGIN:VCALENDAR
VERSION:2.0
PRODID:-//ChamberMaster//Event Calendar 2.0//EN
METHOD:PUBLISH
X-PUBLISHED-TTL:P3D
REFRESH-INTERVAL:P3D
CALSCALE:GREGORIAN
BEGIN:VEVENT
DTSTART:20260518T180000Z
DTEND:20260518T200000Z
X-MICROSOFT-CDO-ALLDAYEVENT:FALSE
SUMMARY:More Good Days\, Together with Noemi Vorhis
DESCRIPTION:?? May is Mental Health Month ?? More Good Days\, Together Take a step toward caring for your mental well-being and connect with helpful resources right here in your community. The Giles County Public Library invites you to drop in for Mental Health Day on Monday\, May 18th between 1:00 3:00 PM. Stop in\, ask questions\, and gather valuable information in a welcoming\, supportive space. We are pleased to host Noemi Vorhis\, a Clinical Social Worker licensed in Tennessee and Alabama with 20 years of experience. She specializes in supporting individuals facing mood disorders\, anxiety\, trauma\, and addictions\, and will be available to provide guidance and answer your questions. Whether you're seeking information for yourself or a loved one\, this is a great opportunity to learn more and take a positive step forward. ?? Giles County Public Library ?? Drop in anytime between 1:00 3:00 PM You don't have to figure it out alone let's create more good days\, together. ??
X-ALT-DESC;FMTTYPE=text/html:?? May is Mental Health Month ?? More Good Days\, Together Take a step toward caring for your mental well-being&mdash\;and connect with helpful resources right here in your community. The Giles County Public Library invites you to drop in for Mental Health Day on Monday\, May 18th between 1:00&ndash\;3:00 PM. Stop in\, ask questions\, and gather valuable information in a welcoming\, supportive space. We are pleased to host Noemi Vorhis\, a Clinical Social Worker licensed in Tennessee and Alabama with 20 years of experience. She specializes in supporting individuals facing mood disorders\, anxiety\, trauma\, and addictions\, and will be available to provide guidance and answer your questions. Whether you&rsquo\;re seeking information for yourself or a loved one\, this is a great opportunity to learn more and take a positive step forward. ?? Giles County Public Library ?? Drop in anytime between 1:00&ndash\;3:00 PM You don&rsquo\;t have to figure it out alone&mdash\;let&rsquo\;s create more good days\, together. ??
LOCATION:Giles County Public Library 122 S. Second Street Pulaski\, TN 38478
UID:e.3481.642
SEQUENCE:3
DTSTAMP:20260423T205441Z
URL:https://members.historicdowntownpulaski.com/events/details/more-good-days-together-with-noemi-vorhis-642
END:VEVENT

END:VCALENDAR
